BEGIN:VCALENDAR
VERSION:2.0
PRODID:-//Iglesia Cristo Viene - ECPv6.1.2.2//NONSGML v1.0//EN
CALSCALE:GREGORIAN
METHOD:PUBLISH
X-ORIGINAL-URL:https://cristovienecr.com
X-WR-CALDESC:Eventos para Iglesia Cristo Viene
REFRESH-INTERVAL;VALUE=DURATION:PT1H
X-Robots-Tag:noindex
X-PUBLISHED-TTL:PT1H
BEGIN:VTIMEZONE
TZID:America/Costa_Rica
BEGIN:STANDARD
TZOFFSETFROM:-0600
TZOFFSETTO:-0600
TZNAME:CST
DTSTART:20240101T000000
END:STANDARD
END:VTIMEZONE
BEGIN:VEVENT
DTSTART;TZID=America/Costa_Rica:20240218T080000
DTEND;TZID=America/Costa_Rica:20240218T170000
DTSTAMP:20260424T214756
CREATED:20240112T001904Z
LAST-MODIFIED:20240112T001906Z
UID:4897-1708243200-1708275600@cristovienecr.com
SUMMARY:Reunión de Vinculo de Matrimonios
DESCRIPTION:Los invitamos a la primera reunión matrimonios del año.  \n\n\n\nLos esperamos
URL:https://cristovienecr.com/actividad/reunion-de-vinculo-de-matrimonios/
ATTACH;FMTTYPE=image/webp:https://cristovienecr.com/wp-content/uploads/2023/01/istockphoto-847575018-612x612-1.webp
END:VEVENT
BEGIN:VEVENT
DTSTART;TZID=America/Costa_Rica:20240225T080000
DTEND;TZID=America/Costa_Rica:20240225T170000
DTSTAMP:20260424T214756
CREATED:20240112T002718Z
LAST-MODIFIED:20240112T002838Z
UID:4899-1708848000-1708880400@cristovienecr.com
SUMMARY:Reunión de coordinadores
DESCRIPTION:Los invitamos a la primera reunión de coordinadores del año! \n\n\n\nLos esperamos.
URL:https://cristovienecr.com/actividad/reunion-de-coordinadores/
ATTACH;FMTTYPE=image/jpeg:https://cristovienecr.com/wp-content/uploads/2017/11/a_group_of_young_people_praying_together_1785721.jpg
END:VEVENT
END:VCALENDAR