BEGIN:VCALENDAR
VERSION:2.0
PRODID:-//Iglesia Cristo Viene - ECPv6.1.2.2//NONSGML v1.0//EN
CALSCALE:GREGORIAN
METHOD:PUBLISH
X-ORIGINAL-URL:https://cristovienecr.com
X-WR-CALDESC:Eventos para Iglesia Cristo Viene
REFRESH-INTERVAL;VALUE=DURATION:PT1H
X-Robots-Tag:noindex
X-PUBLISHED-TTL:PT1H
BEGIN:VTIMEZONE
TZID:America/Costa_Rica
BEGIN:STANDARD
TZOFFSETFROM:-0600
TZOFFSETTO:-0600
TZNAME:CST
DTSTART:20240101T000000
END:STANDARD
END:VTIMEZONE
BEGIN:VEVENT
DTSTART;TZID=America/Costa_Rica:20240402T080000
DTEND;TZID=America/Costa_Rica:20240402T170000
DTSTAMP:20260424T184217
CREATED:20240112T004548Z
LAST-MODIFIED:20240112T005255Z
UID:4906-1712044800-1712077200@cristovienecr.com
SUMMARY:Inicio Paso 4: Grupos de Discipulado
DESCRIPTION:Inician los grupos de discipulado!
URL:https://cristovienecr.com/actividad/inicio-paso-4-grupos-de-discipulado/
ATTACH;FMTTYPE=image/png:https://cristovienecr.com/wp-content/uploads/2020/06/paso4.png
END:VEVENT
BEGIN:VEVENT
DTSTART;TZID=America/Costa_Rica:20240427T080000
DTEND;TZID=America/Costa_Rica:20240428T170000
DTSTAMP:20260424T184217
CREATED:20240112T005805Z
LAST-MODIFIED:20240112T005807Z
UID:4908-1714204800-1714323600@cristovienecr.com
SUMMARY:Aniversario Cristo Viene
DESCRIPTION:
URL:https://cristovienecr.com/actividad/aniversario-cristo-viene/
ATTACH;FMTTYPE=image/png:https://cristovienecr.com/wp-content/uploads/2017/08/CRISTO-VIENE.png
END:VEVENT
END:VCALENDAR